BEGIN:VCALENDAR
VERSION:2.0
PRODID:-//wp-events-plugin.com//7.2.3.1//EN
TZID:Europe/London
X-WR-TIMEZONE:Europe/London
BEGIN:VEVENT
UID:286@livingseedeurope.org
DTSTART;TZID=Europe/London:20250920T150000
DTEND;TZID=Europe/London:20250920T180000
DTSTAMP:20250715T195650Z
URL:https://www.livingseedeurope.org/events/liverpool-discipleship-meeting
 -4-2025-09-20/
SUMMARY:Liverpool Discipleship Meeting
DESCRIPTION:
ATTACH;FMTTYPE=image/jpeg:https://www.livingseedeurope.org/wp-content/uplo
 ads/2022/08/pexels-dianne-226424.jpg
CATEGORIES:Discipleship Class
LOCATION:St Hilda's Church\, Stuart Avenue\, Hunt's Cross\, England\, L25 0
 NN\, Liverpool\, United Kingdom
X-APPLE-STRUCTURED-LOCATION;VALUE=URI;X-ADDRESS=Stuart Avenue\, Hunt's Cros
 s\, England\, L25 0NN\, Liverpool\, United Kingdom;X-APPLE-RADIUS=100;X-TI
 TLE=St Hilda's Church:geo:0,0
END:VEVENT
BEGIN:VTIMEZONE
TZID:Europe/London
X-LIC-LOCATION:Europe/London
BEGIN:DAYLIGHT
DTSTART:20250330T020000
TZOFFSETFROM:+0000
TZOFFSETTO:+0100
TZNAME:BST
END:DAYLIGHT
END:VTIMEZONE
END:VCALENDAR