BEGIN:VCALENDAR
VERSION:2.0
PRODID:-//wp-events-plugin.com//7.2.3.1//EN
TZID:Europe/London
X-WR-TIMEZONE:Europe/London
BEGIN:VEVENT
UID:282@livingseedeurope.org
DTSTART;TZID=Europe/London:20251101T150000
DTEND;TZID=Europe/London:20251101T180000
DTSTAMP:20250715T195821Z
URL:https://www.livingseedeurope.org/events/liverpool-discipleship-meeting
 -5-2025-11-01/
SUMMARY:Liverpool Discipleship Meeting
DESCRIPTION:
ATTACH;FMTTYPE=image/jpeg:https://www.livingseedeurope.org/wp-content/uplo
 ads/2022/08/pexels-dianne-226424.jpg
CATEGORIES:Discipleship Class
LOCATION:St Hilda's Church\, Stuart Avenue\, Hunt's Cross\, England\, L25 0
 NN\, Liverpool\, United Kingdom
X-APPLE-STRUCTURED-LOCATION;VALUE=URI;X-ADDRESS=Stuart Avenue\, Hunt's Cros
 s\, England\, L25 0NN\, Liverpool\, United Kingdom;X-APPLE-RADIUS=100;X-TI
 TLE=St Hilda's Church:geo:0,0
END:VEVENT
BEGIN:VTIMEZONE
TZID:Europe/London
X-LIC-LOCATION:Europe/London
BEGIN:STANDARD
DTSTART:20251026T010000
TZOFFSETFROM:+0100
TZOFFSETTO:+0000
TZNAME:GMT
END:STANDARD
END:VTIMEZONE
END:VCALENDAR